BEGIN:VCALENDAR
VERSION:2.0
PRODID:-//Campbell House Museum - ECPv6.15.20//NONSGML v1.0//EN
CALSCALE:GREGORIAN
METHOD:PUBLISH
X-WR-CALNAME:Campbell House Museum
X-ORIGINAL-URL:https://campbellhousemuseum.org
X-WR-CALDESC:Events for Campbell House Museum
REFRESH-INTERVAL;VALUE=DURATION:PT1H
X-Robots-Tag:noindex
X-PUBLISHED-TTL:PT1H
BEGIN:VTIMEZONE
TZID:America/Chicago
BEGIN:DAYLIGHT
TZOFFSETFROM:-0600
TZOFFSETTO:-0500
TZNAME:CDT
DTSTART:20250309T080000
END:DAYLIGHT
BEGIN:STANDARD
TZOFFSETFROM:-0500
TZOFFSETTO:-0600
TZNAME:CST
DTSTART:20251102T070000
END:STANDARD
BEGIN:DAYLIGHT
TZOFFSETFROM:-0600
TZOFFSETTO:-0500
TZNAME:CDT
DTSTART:20260308T080000
END:DAYLIGHT
BEGIN:STANDARD
TZOFFSETFROM:-0500
TZOFFSETTO:-0600
TZNAME:CST
DTSTART:20261101T070000
END:STANDARD
BEGIN:DAYLIGHT
TZOFFSETFROM:-0600
TZOFFSETTO:-0500
TZNAME:CDT
DTSTART:20270314T080000
END:DAYLIGHT
BEGIN:STANDARD
TZOFFSETFROM:-0500
TZOFFSETTO:-0600
TZNAME:CST
DTSTART:20271107T070000
END:STANDARD
END:VTIMEZONE
BEGIN:VEVENT
DTSTART;TZID=America/Chicago:20260426T150000
DTEND;TZID=America/Chicago:20260426T180000
DTSTAMP:20260419T115353
CREATED:20260217T143309Z
LAST-MODIFIED:20260217T143309Z
UID:13597-1777215600-1777226400@campbellhousemuseum.org
SUMMARY:Spring Members & Friends Party
DESCRIPTION:Join us for our annual Spring Members & Friends Party! Enjoy light hors d’oeuvres and Virginia’s famous Roman Punch in the garden. Member’s receive 20% off all purchases in the Museum Store. Free\, reservations not required. Limited parking on the Museum lot\, free street parking on Sunday.
URL:https://campbellhousemuseum.org/event/spring-members-friends-party/
CATEGORIES:Community Event,Member Event
ATTACH;FMTTYPE=image/webp:https://campbellhousemuseum.org/wp-content/uploads/2021/09/Temporary-Placeholder-Cambell-House.webp
END:VEVENT
END:VCALENDAR