BEGIN:VCALENDAR
VERSION:2.0
PRODID:-//Campbell House Museum - ECPv6.15.20//NONSGML v1.0//EN
CALSCALE:GREGORIAN
METHOD:PUBLISH
X-ORIGINAL-URL:https://campbellhousemuseum.org
X-WR-CALDESC:Events for Campbell House Museum
REFRESH-INTERVAL;VALUE=DURATION:PT1H
X-Robots-Tag:noindex
X-PUBLISHED-TTL:PT1H
BEGIN:VTIMEZONE
TZID:America/Chicago
BEGIN:DAYLIGHT
TZOFFSETFROM:-0600
TZOFFSETTO:-0500
TZNAME:CDT
DTSTART:20140309T080000
END:DAYLIGHT
BEGIN:STANDARD
TZOFFSETFROM:-0500
TZOFFSETTO:-0600
TZNAME:CST
DTSTART:20141102T070000
END:STANDARD
BEGIN:DAYLIGHT
TZOFFSETFROM:-0600
TZOFFSETTO:-0500
TZNAME:CDT
DTSTART:20150308T080000
END:DAYLIGHT
BEGIN:STANDARD
TZOFFSETFROM:-0500
TZOFFSETTO:-0600
TZNAME:CST
DTSTART:20151101T070000
END:STANDARD
BEGIN:DAYLIGHT
TZOFFSETFROM:-0600
TZOFFSETTO:-0500
TZNAME:CDT
DTSTART:20160313T080000
END:DAYLIGHT
BEGIN:STANDARD
TZOFFSETFROM:-0500
TZOFFSETTO:-0600
TZNAME:CST
DTSTART:20161106T070000
END:STANDARD
BEGIN:DAYLIGHT
TZOFFSETFROM:-0600
TZOFFSETTO:-0500
TZNAME:CDT
DTSTART:20170312T080000
END:DAYLIGHT
BEGIN:STANDARD
TZOFFSETFROM:-0500
TZOFFSETTO:-0600
TZNAME:CST
DTSTART:20171105T070000
END:STANDARD
BEGIN:DAYLIGHT
TZOFFSETFROM:-0600
TZOFFSETTO:-0500
TZNAME:CDT
DTSTART:20180311T080000
END:DAYLIGHT
BEGIN:STANDARD
TZOFFSETFROM:-0500
TZOFFSETTO:-0600
TZNAME:CST
DTSTART:20181104T070000
END:STANDARD
BEGIN:DAYLIGHT
TZOFFSETFROM:-0600
TZOFFSETTO:-0500
TZNAME:CDT
DTSTART:20190310T080000
END:DAYLIGHT
BEGIN:STANDARD
TZOFFSETFROM:-0500
TZOFFSETTO:-0600
TZNAME:CST
DTSTART:20191103T070000
END:STANDARD
BEGIN:DAYLIGHT
TZOFFSETFROM:-0600
TZOFFSETTO:-0500
TZNAME:CDT
DTSTART:20200308T080000
END:DAYLIGHT
BEGIN:STANDARD
TZOFFSETFROM:-0500
TZOFFSETTO:-0600
TZNAME:CST
DTSTART:20201101T070000
END:STANDARD
BEGIN:DAYLIGHT
TZOFFSETFROM:-0600
TZOFFSETTO:-0500
TZNAME:CDT
DTSTART:20210314T080000
END:DAYLIGHT
BEGIN:STANDARD
TZOFFSETFROM:-0500
TZOFFSETTO:-0600
TZNAME:CST
DTSTART:20211107T070000
END:STANDARD
BEGIN:DAYLIGHT
TZOFFSETFROM:-0600
TZOFFSETTO:-0500
TZNAME:CDT
DTSTART:20220313T080000
END:DAYLIGHT
BEGIN:STANDARD
TZOFFSETFROM:-0500
TZOFFSETTO:-0600
TZNAME:CST
DTSTART:20221106T070000
END:STANDARD
BEGIN:DAYLIGHT
TZOFFSETFROM:-0600
TZOFFSETTO:-0500
TZNAME:CDT
DTSTART:20230312T080000
END:DAYLIGHT
BEGIN:STANDARD
TZOFFSETFROM:-0500
TZOFFSETTO:-0600
TZNAME:CST
DTSTART:20231105T070000
END:STANDARD
BEGIN:DAYLIGHT
TZOFFSETFROM:-0600
TZOFFSETTO:-0500
TZNAME:CDT
DTSTART:20240310T080000
END:DAYLIGHT
BEGIN:STANDARD
TZOFFSETFROM:-0500
TZOFFSETTO:-0600
TZNAME:CST
DTSTART:20241103T070000
END:STANDARD
BEGIN:DAYLIGHT
TZOFFSETFROM:-0600
TZOFFSETTO:-0500
TZNAME:CDT
DTSTART:20250309T080000
END:DAYLIGHT
BEGIN:STANDARD
TZOFFSETFROM:-0500
TZOFFSETTO:-0600
TZNAME:CST
DTSTART:20251102T070000
END:STANDARD
BEGIN:DAYLIGHT
TZOFFSETFROM:-0600
TZOFFSETTO:-0500
TZNAME:CDT
DTSTART:20260308T080000
END:DAYLIGHT
BEGIN:STANDARD
TZOFFSETFROM:-0500
TZOFFSETTO:-0600
TZNAME:CST
DTSTART:20261101T070000
END:STANDARD
END:VTIMEZONE
BEGIN:VTIMEZONE
TZID:America/Chicago
BEGIN:DAYLIGHT
TZOFFSETFROM:-0600
TZOFFSETTO:-0500
TZNAME:CDT
DTSTART:20180311T080000
END:DAYLIGHT
BEGIN:STANDARD
TZOFFSETFROM:-0500
TZOFFSETTO:-0600
TZNAME:CST
DTSTART:20181104T070000
END:STANDARD
BEGIN:DAYLIGHT
TZOFFSETFROM:-0600
TZOFFSETTO:-0500
TZNAME:CDT
DTSTART:20190310T080000
END:DAYLIGHT
BEGIN:STANDARD
TZOFFSETFROM:-0500
TZOFFSETTO:-0600
TZNAME:CST
DTSTART:20191103T070000
END:STANDARD
BEGIN:DAYLIGHT
TZOFFSETFROM:-0600
TZOFFSETTO:-0500
TZNAME:CDT
DTSTART:20200308T080000
END:DAYLIGHT
BEGIN:STANDARD
TZOFFSETFROM:-0500
TZOFFSETTO:-0600
TZNAME:CST
DTSTART:20201101T070000
END:STANDARD
BEGIN:DAYLIGHT
TZOFFSETFROM:-0600
TZOFFSETTO:-0500
TZNAME:CDT
DTSTART:20210314T080000
END:DAYLIGHT
BEGIN:STANDARD
TZOFFSETFROM:-0500
TZOFFSETTO:-0600
TZNAME:CST
DTSTART:20211107T070000
END:STANDARD
BEGIN:DAYLIGHT
TZOFFSETFROM:-0600
TZOFFSETTO:-0500
TZNAME:CDT
DTSTART:20220313T080000
END:DAYLIGHT
BEGIN:STANDARD
TZOFFSETFROM:-0500
TZOFFSETTO:-0600
TZNAME:CST
DTSTART:20221106T070000
END:STANDARD
BEGIN:DAYLIGHT
TZOFFSETFROM:-0600
TZOFFSETTO:-0500
TZNAME:CDT
DTSTART:20230312T080000
END:DAYLIGHT
BEGIN:STANDARD
TZOFFSETFROM:-0500
TZOFFSETTO:-0600
TZNAME:CST
DTSTART:20231105T070000
END:STANDARD
BEGIN:DAYLIGHT
TZOFFSETFROM:-0600
TZOFFSETTO:-0500
TZNAME:CDT
DTSTART:20240310T080000
END:DAYLIGHT
BEGIN:STANDARD
TZOFFSETFROM:-0500
TZOFFSETTO:-0600
TZNAME:CST
DTSTART:20241103T070000
END:STANDARD
END:VTIMEZONE
BEGIN:VEVENT
DTSTART;TZID=America/Chicago:20251019T150000
DTEND;TZID=America/Chicago:20251019T180000
DTSTAMP:20260419T102639
CREATED:20250710T220704Z
LAST-MODIFIED:20250710T220704Z
UID:12587-1760886000-1760896800@campbellhousemuseum.org
SUMMARY:Fall Members Party
DESCRIPTION:On Sunday\, October 19\, enjoy light hors d’oeuvres and mingle with docents and members during our Fall Members Party. Get a jump start on your holiday shopping as the Campbell House debuts new merchandise for the holiday season. Members receive a 25% discount in the store on this day exclusively. \n  \nNo reservation needed\, and parking is free on Sundays.
URL:https://campbellhousemuseum.org/event/fall-members-party-3/
CATEGORIES:Community Event,Member Event
ATTACH;FMTTYPE=image/jpeg:https://campbellhousemuseum.org/wp-content/uploads/2014/08/CHMnight.jpg
ORGANIZER;CN="Campbell House Museum":MAILTO:events@campbellhousemuseum.org
END:VEVENT
BEGIN:VEVENT
DTSTART;TZID=America/Chicago:20240428T150000
DTEND;TZID=America/Chicago:20240428T180000
DTSTAMP:20260419T102639
CREATED:20220421T185749Z
LAST-MODIFIED:20220421T185749Z
UID:8290-1714316400-1714327200@campbellhousemuseum.org
SUMMARY:Spring Members and Friends Open House
DESCRIPTION:Join us at the Campbell House Museum to see the new exhibit: Better Than Gold: The Campbells and Music in the Gilded Age. Exhibit on display through 2024. Enjoy light hors d’oeuvres in the garden. This is also a great opportunity to meet author Patrick Murphy and get signed copies of his new book\, Prelude to a Century\, The 1904 World’s Fair.\n\nThe event is free\, and all are welcome\, reservations are not needed. Museum members receive 20% off in the Museum Store\, which will be stocked with new summer merchandise. Come see all that is new at Campbell House!\n\n\nFree parking is available on the lot directly next to the house.
URL:https://campbellhousemuseum.org/event/spring-members-and-friends-open-house/
LOCATION:Campbell House Museum\, 1508 Locust Street\, St. Louis\, MO\, 63103
CATEGORIES:Community Event,Member Event,Special Exhibition
ATTACH;FMTTYPE=image/jpeg:https://campbellhousemuseum.org/wp-content/uploads/2022/04/Gazebo.jpg
ORGANIZER;CN="Campbell House Museum":MAILTO:events@campbellhousemuseum.org
END:VEVENT
BEGIN:VEVENT
DTSTART;TZID=America/Chicago:20231022T150000
DTEND;TZID=America/Chicago:20231022T180000
DTSTAMP:20260419T102639
CREATED:20150730T205515Z
LAST-MODIFIED:20150730T205515Z
UID:8239-1697986800-1697997600@campbellhousemuseum.org
SUMMARY:Fall Members Party
DESCRIPTION:Meet author Cameron Collins and get autographed copies of the second edition of Lost Treasures of Saint Louis.  It’s also a great opportunity to get a head start on your holiday shopping! Free for members\, no reservations required. \nMembers receive 20% off all purchases in the Museum store which will be stocked with new holiday merchandise. There will also be light hors d`oeuvres and Virginia Campbell’s famous Roman Punch. (FREE)  \nCome see all that is new at the Campbell House! \n 
URL:https://campbellhousemuseum.org/event/fall-members-party/
LOCATION:Campbell House Museum\, 1508 Locust Street\, St. Louis\, MO\, 63103
CATEGORIES:Member Event
ATTACH;FMTTYPE=image/jpeg:https://campbellhousemuseum.org/wp-content/uploads/2015/07/Lost-Treasures.jpeg
END:VEVENT
BEGIN:VEVENT
DTSTART;TZID=America/Chicago:20230129T140000
DTEND;TZID=America/Chicago:20230129T153000
DTSTAMP:20260419T102639
CREATED:20230119T182305Z
LAST-MODIFIED:20230119T182305Z
UID:8299-1675000800-1675006200@campbellhousemuseum.org
SUMMARY:LECTURE: Forged in Missouri - Ulysses S. Grant and the Show-Me State
DESCRIPTION:Join the Campbell House Museum for a lecture by author and Missouri Humanities Staffer\, Greg Wolk as he speaks about Ulysses S. Grant. Wolk will present a vivid portrait of the early days of the Civil War and explain how Grant’s experiences in Missouri impacted his rise to immortal fame as a soldier.
URL:https://campbellhousemuseum.org/event/lecture-forged-in-missouri-ulysses-s-grant-and-the-show-me-state/
LOCATION:Campbell House Museum\, 1508 Locust Street\, St. Louis\, MO\, 63103
CATEGORIES:Community Event,Member Event,Special Exhibition,Talk/Presentation
ATTACH;FMTTYPE=image/jpeg:https://campbellhousemuseum.org/wp-content/uploads/2023/01/Grant-MOHIST-scaled-1.jpg
END:VEVENT
BEGIN:VEVENT
DTSTART;VALUE=DATE:20210604
DTEND;VALUE=DATE:20210607
DTSTAMP:20260419T102639
CREATED:20170911T142215Z
LAST-MODIFIED:20170911T142215Z
UID:8256-1622764800-1623023999@campbellhousemuseum.org
SUMMARY:Spring Member & Friends Open House
DESCRIPTION:Members receive 20% off in the Museum Store\, which will be stocked with new summer merchandise. Come see all that is new at Campbell House!\n\nAll are welcome\,  reservations will be required.\n\nMore information to follow.\n\nFree parking is available on the lot directly next to the house.
URL:https://campbellhousemuseum.org/event/fall-members-party-2/
LOCATION:Campbell House Museum\, 1508 Locust Street\, St. Louis\, MO\, 63103
CATEGORIES:Member Event
ATTACH;FMTTYPE=image/jpeg:https://campbellhousemuseum.org/wp-content/uploads/2021/02/Campbell-House-dining-room-west-scaled-1.jpg
END:VEVENT
BEGIN:VEVENT
DTSTART;TZID=America/Chicago:20200504T130000
DTEND;TZID=America/Chicago:20200504T150000
DTSTAMP:20260419T102639
CREATED:20150626T001538Z
LAST-MODIFIED:20150626T001538Z
UID:8234-1588597200-1588604400@campbellhousemuseum.org
SUMMARY:Lucas Place Walking Tour
DESCRIPTION:Join the staff of the Camp­bell House Museum for a walk­ing tour of the 1875 neigh­bor­hood of Lucas Place\, St. Louis’ first pri­vate place and an enclave of Gilded Age wealth and nine­teenth cen­tury ele­gance. Span­ning from 14th to 18th Streets in Down­town St. Louis\, par­tic­i­pants will walk a street once lined with expan­sive homes\, today the site of a resur­gent early twen­ti­eth cen­tury busi­ness dis­trict. Tours will begin and end at the Camp­bell House Museum. \nTickets are $15 and CHM Members are Free. \nPlease call 314-421-0325 for any questions\, tickets can be purchased via the Eventbrite link that is below.  \nhttps://www.eventbrite.com/e/lucas-place-walking-tour-tickets-89082336667
URL:https://campbellhousemuseum.org/event/lucas-place-west-walking-tour/
LOCATION:Campbell House Museum\, 1508 Locust Street\, St. Louis\, MO\, 63103
CATEGORIES:Community Event,Member Event
ATTACH;FMTTYPE=image/jpeg:https://campbellhousemuseum.org/wp-content/uploads/2015/06/LP-walking-tour1.jpg
END:VEVENT
BEGIN:VEVENT
DTSTART;TZID=America/Chicago:20191021T130000
DTEND;TZID=America/Chicago:20191021T150000
DTSTAMP:20260419T102639
CREATED:20150626T002633Z
LAST-MODIFIED:20150626T002633Z
UID:8235-1571662800-1571670000@campbellhousemuseum.org
SUMMARY:Lucas Place Walking Tour
DESCRIPTION:Join the staff of the Camp­bell House Museum for a walk­ing tour of the 1875 neigh­bor­hood of Lucas Place\, St. Louis’ first pri­vate place and an enclave of Gilded Age wealth and nine­teenth cen­tury ele­gance. Span­ning from 14th to 18th Streets in Down­town St. Louis\, par­tic­i­pants will walk a street once lined with expan­sive homes\, today the site of a resur­gent early twen­ti­eth cen­tury busi­ness dis­trict. Tours will begin and end at the Camp­bell House Museum. \nTickets are $10 and CHM Members are Free. \nPlease call 314-421-0325 to check for ticket availability.
URL:https://campbellhousemuseum.org/event/lucas-place-walking-tour-4/
LOCATION:Campbell House Museum\, 1508 Locust Street\, St. Louis\, MO\, 63103
CATEGORIES:Community Event,Member Event
ATTACH;FMTTYPE=image/jpeg:https://campbellhousemuseum.org/wp-content/uploads/2015/06/LP-walking-tour1.jpg
END:VEVENT
BEGIN:VEVENT
DTSTART;TZID=America/Chicago:20170430T160000
DTEND;TZID=America/Chicago:20170430T190000
DTSTAMP:20260419T102639
CREATED:20170217T162714Z
LAST-MODIFIED:20170217T162714Z
UID:8254-1493568000-1493578800@campbellhousemuseum.org
SUMMARY:Spring Member's Party
DESCRIPTION:Annual members are the Campbell House Museum’s lifeblood – they fund education programming for local schools\, help keep the lights on in our historic buildings and preserve St. Louis history and heritage. Join us in the garden of the Campbell House Museum for wine\, hors d’oeuvres and members receive a 20% discount on the Museum Store’s new line of Spring merchandise. This year two local authors will join members to discuss and sign copies of their nationally renowned books. \nMaureen Kavanaugh\nAuthor of the new book “Hidden History of Downtown St. Louis”\nCameron Collins\nAuthor of “Lost Treasures of St. Louis” \nAll are welcome to attend\, no reservations are required. Free parking is available in the YMCA lot. \nWe hope you can join us! For more information on becoming a member of the Campbell House Museum\, click here.
URL:https://campbellhousemuseum.org/event/spring-members-party-3/
LOCATION:Campbell House Museum\, 1508 Locust Street\, St. Louis\, MO\, 63103
CATEGORIES:Member Event
ATTACH;FMTTYPE=image/jpeg:https://campbellhousemuseum.org/wp-content/uploads/2017/02/Spring-members-party-e1487348799572.jpg
END:VEVENT
BEGIN:VEVENT
DTSTART;TZID=America/Chicago:20151031T183000
DTEND;TZID=America/Chicago:20151031T200000
DTSTAMP:20260419T102639
CREATED:20151022T020004Z
LAST-MODIFIED:20151022T020004Z
UID:8243-1446316200-1446321600@campbellhousemuseum.org
SUMMARY:Twilight Tours on Halloween Night
DESCRIPTION:Spend All Hallow’s Eve exploring the Campbell House after dark!  \nGuests have the rare opportunity to expe­ri­ence Camp­bell House after dark and take a closer look at the unhappy chap­ters of loss and despair that defined much of the Camp­bell family’s 84 years spent at #20 Lucas Place (today 1508 Locust Street). \nGuests are encour­aged to come in cos­tume\, we’ll have ours on too! \nAdvance reser­va­tions in one of the four time slots (6:30\, 7:00\, 7:30 and 8:00 p.m.) are required\, tick­ets are $13 per per­son.  \nClick below or call the CHM office at (314) 421‑0325 to reserve your spot! \nFree park­ing avail­able on the YMCA lot imme­di­ately west of the Museum. \nUPDATE (10/31/2015 11:13 a.m)\nCall 314-421-0325 to check for ticket availability.
URL:https://campbellhousemuseum.org/event/twilight-tours-on-halloween-night/
LOCATION:Campbell House Museum\, 1508 Locust Street\, St. Louis\, MO\, 63103
CATEGORIES:Community Event,Member Event
ATTACH;FMTTYPE=image/jpeg:https://campbellhousemuseum.org/wp-content/uploads/2015/10/ttfeatures.jpg
ORGANIZER;CN="Campbell House Museum":MAILTO:events@campbellhousemuseum.org
END:VEVENT
BEGIN:VEVENT
DTSTART;TZID=America/Chicago:20150925T170000
DTEND;TZID=America/Chicago:20150925T193000
DTSTAMP:20260419T102639
CREATED:20150626T020811Z
LAST-MODIFIED:20150626T020811Z
UID:8236-1443200400-1443209400@campbellhousemuseum.org
SUMMARY:#DrinkupTweetupSTL with Distilled History
DESCRIPTION:Join the Campbell House Museum and Cameron Collins\, award-winning author of local history blog Distilled History for an after-work evening celebrating St. Louis history through the lens of beer and spirits. Grab a beer and a bite to eat\, tour the historic Campbell House and enjoy a live performance by local music sensation Typhoon Jackson (back by popular demand!) \nThis outdoor event is free to members of the public aged 21+.
URL:https://campbellhousemuseum.org/event/drinkuptweetupstl-with-distilled-history/
LOCATION:Campbell House Museum\, 1508 Locust Street\, St. Louis\, MO\, 63103
CATEGORIES:Community Event,Member Event
ATTACH;FMTTYPE=image/jpeg:https://campbellhousemuseum.org/wp-content/uploads/2015/06/DrinkupTweetupSTL-1.jpg
END:VEVENT
BEGIN:VEVENT
DTSTART;TZID=America/Chicago:20150517T160000
DTEND;TZID=America/Chicago:20150517T190000
DTSTAMP:20260419T102639
CREATED:20150421T043244Z
LAST-MODIFIED:20150421T043244Z
UID:8226-1431878400-1431889200@campbellhousemuseum.org
SUMMARY:Spring Members Party
DESCRIPTION:Annual members are the Campbell House Museum’s lifeblood – they fund education programming for local schools\, help keep the lights on in our historic buildings and preserve St. Louis history and heritage. Join us in the garden of the Campbell House Museum for wine\, hors d’oeuvres and a special 20% discount on the Museum Store’s new line of Spring merchandise. This year\, in honor of the closing celebrations of the 150th anniversary of the end of the Civil War\, four local authors will join members to discuss Civil War St. Louis history and sign copies of their nationally renowned books. \nDr. Louis Gerteis\nHistory Department Chair at the University of Missouri-St. Louis\nNiNi Harris\nAuthor of “A Most Unsettled State: First Person Accounts of St. Louis During the Civil War”\nDr. Stacy Pratt McDermott\nAssistant Director and Associate Editor of the Papers of Abraham Lincoln\nGreg Wolk\nDirector of the Missouri Civil War Heritage Foundation \nWe hope you can join us! For more information on becoming a member of the Campbell House Museum\, click here.
URL:https://campbellhousemuseum.org/event/spring-members-party/
LOCATION:Campbell House Museum\, 1508 Locust Street\, St. Louis\, MO\, 63103
CATEGORIES:Member Event
ATTACH;FMTTYPE=image/png:https://campbellhousemuseum.org/wp-content/uploads/2015/04/Screen-Shot-2015-04-15-at-11.10.45-AM.png
END:VEVENT
END:VCALENDAR