BEGIN:VCALENDAR
VERSION:2.0
PRODID:-//Campbell House Museum - ECPv6.15.20//NONSGML v1.0//EN
CALSCALE:GREGORIAN
METHOD:PUBLISH
X-ORIGINAL-URL:https://campbellhousemuseum.org
X-WR-CALDESC:Events for Campbell House Museum
REFRESH-INTERVAL;VALUE=DURATION:PT1H
X-Robots-Tag:noindex
X-PUBLISHED-TTL:PT1H
BEGIN:VTIMEZONE
TZID:America/Chicago
BEGIN:DAYLIGHT
TZOFFSETFROM:-0600
TZOFFSETTO:-0500
TZNAME:CDT
DTSTART:20220313T080000
END:DAYLIGHT
BEGIN:STANDARD
TZOFFSETFROM:-0500
TZOFFSETTO:-0600
TZNAME:CST
DTSTART:20221106T070000
END:STANDARD
BEGIN:DAYLIGHT
TZOFFSETFROM:-0600
TZOFFSETTO:-0500
TZNAME:CDT
DTSTART:20230312T080000
END:DAYLIGHT
BEGIN:STANDARD
TZOFFSETFROM:-0500
TZOFFSETTO:-0600
TZNAME:CST
DTSTART:20231105T070000
END:STANDARD
BEGIN:DAYLIGHT
TZOFFSETFROM:-0600
TZOFFSETTO:-0500
TZNAME:CDT
DTSTART:20240310T080000
END:DAYLIGHT
BEGIN:STANDARD
TZOFFSETFROM:-0500
TZOFFSETTO:-0600
TZNAME:CST
DTSTART:20241103T070000
END:STANDARD
BEGIN:DAYLIGHT
TZOFFSETFROM:-0600
TZOFFSETTO:-0500
TZNAME:CDT
DTSTART:20250309T080000
END:DAYLIGHT
BEGIN:STANDARD
TZOFFSETFROM:-0500
TZOFFSETTO:-0600
TZNAME:CST
DTSTART:20251102T070000
END:STANDARD
END:VTIMEZONE
BEGIN:VEVENT
DTSTART;VALUE=DATE:20230430
DTEND;VALUE=DATE:20240416
DTSTAMP:20260421T204751
CREATED:20230503T185637Z
LAST-MODIFIED:20240410T162526Z
UID:8302-1682812800-1713225599@campbellhousemuseum.org
SUMMARY:Tying the Knot - 150 Years of Wedding Fashions
DESCRIPTION:The Tying the Knot exhibit features 20 wedding gowns\, dresses and ensembles that date from the 1870s all the way up to 2020. The exhibit emphasizes the tradition of the bride wearing white\, which was popularized by Queen Victoria at her marriage in February of 1840. and continues to this day. Come explore this unique exhibit and the past 150 years of wedding gown fashion! This exhibit will be on display until April 2024. $10 entry fee includes Museum guided tour.
URL:https://campbellhousemuseum.org/event/tying-the-knot-150-years-of-wedding-fashions/
LOCATION:Campbell House Museum\, 1508 Locust Street\, St. Louis\, MO\, 63103
CATEGORIES:Special Exhibition
ATTACH;FMTTYPE=image/webp:https://campbellhousemuseum.org/wp-content/uploads/2023/05/Tying-The-Knot.webp
ORGANIZER;CN="Campbell House Museum":MAILTO:events@campbellhousemuseum.org
END:VEVENT
END:VCALENDAR