BEGIN:VCALENDAR
VERSION:2.0
PRODID:-//Campbell House Museum - ECPv6.15.20//NONSGML v1.0//EN
CALSCALE:GREGORIAN
METHOD:PUBLISH
X-ORIGINAL-URL:https://campbellhousemuseum.org
X-WR-CALDESC:Events for Campbell House Museum
REFRESH-INTERVAL;VALUE=DURATION:PT1H
X-Robots-Tag:noindex
X-PUBLISHED-TTL:PT1H
BEGIN:VTIMEZONE
TZID:America/Chicago
BEGIN:DAYLIGHT
TZOFFSETFROM:-0600
TZOFFSETTO:-0500
TZNAME:CDT
DTSTART:20220313T080000
END:DAYLIGHT
BEGIN:STANDARD
TZOFFSETFROM:-0500
TZOFFSETTO:-0600
TZNAME:CST
DTSTART:20221106T070000
END:STANDARD
BEGIN:DAYLIGHT
TZOFFSETFROM:-0600
TZOFFSETTO:-0500
TZNAME:CDT
DTSTART:20230312T080000
END:DAYLIGHT
BEGIN:STANDARD
TZOFFSETFROM:-0500
TZOFFSETTO:-0600
TZNAME:CST
DTSTART:20231105T070000
END:STANDARD
BEGIN:DAYLIGHT
TZOFFSETFROM:-0600
TZOFFSETTO:-0500
TZNAME:CDT
DTSTART:20240310T080000
END:DAYLIGHT
BEGIN:STANDARD
TZOFFSETFROM:-0500
TZOFFSETTO:-0600
TZNAME:CST
DTSTART:20241103T070000
END:STANDARD
END:VTIMEZONE
BEGIN:VEVENT
DTSTART;TZID=America/Chicago:20231015T140000
DTEND;TZID=America/Chicago:20231015T160000
DTSTAMP:20260422T061615
CREATED:20230906T194541Z
LAST-MODIFIED:20230906T194541Z
UID:8309-1697378400-1697385600@campbellhousemuseum.org
SUMMARY:LECTURE: Historic Tales of St. Louis
DESCRIPTION:Join the Campbell House Museum for a Lecture on “Historic Tales of Saint Louis” on Sunday\, October 15! Local historian\, Mark Zeman will be giving the presentation on his new book with the same title and will include stories of top hats\, opium\, and the extermination of the buffalo. \nThe event is free and no reservations are required. There is limited free parking in the lot adjacent to the house. Street parking is free on Sundays.
URL:https://campbellhousemuseum.org/event/lecture-historic-tales-of-st-louis/
LOCATION:Campbell House Museum\, 1508 Locust Street\, St. Louis\, MO\, 63103
CATEGORIES:Talk/Presentation
ATTACH;FMTTYPE=image/jpeg:https://campbellhousemuseum.org/wp-content/uploads/2023/09/Historic-Tales.jpg
END:VEVENT
END:VCALENDAR