BEGIN:VCALENDAR
VERSION:2.0
PRODID:-//Campbell House Museum - ECPv6.15.20//NONSGML v1.0//EN
CALSCALE:GREGORIAN
METHOD:PUBLISH
X-ORIGINAL-URL:https://campbellhousemuseum.org
X-WR-CALDESC:Events for Campbell House Museum
REFRESH-INTERVAL;VALUE=DURATION:PT1H
X-Robots-Tag:noindex
X-PUBLISHED-TTL:PT1H
BEGIN:VTIMEZONE
TZID:America/Chicago
BEGIN:DAYLIGHT
TZOFFSETFROM:-0600
TZOFFSETTO:-0500
TZNAME:CDT
DTSTART:20220313T080000
END:DAYLIGHT
BEGIN:STANDARD
TZOFFSETFROM:-0500
TZOFFSETTO:-0600
TZNAME:CST
DTSTART:20221106T070000
END:STANDARD
BEGIN:DAYLIGHT
TZOFFSETFROM:-0600
TZOFFSETTO:-0500
TZNAME:CDT
DTSTART:20230312T080000
END:DAYLIGHT
BEGIN:STANDARD
TZOFFSETFROM:-0500
TZOFFSETTO:-0600
TZNAME:CST
DTSTART:20231105T070000
END:STANDARD
BEGIN:DAYLIGHT
TZOFFSETFROM:-0600
TZOFFSETTO:-0500
TZNAME:CDT
DTSTART:20240310T080000
END:DAYLIGHT
BEGIN:STANDARD
TZOFFSETFROM:-0500
TZOFFSETTO:-0600
TZNAME:CST
DTSTART:20241103T070000
END:STANDARD
END:VTIMEZONE
BEGIN:VEVENT
DTSTART;TZID=America/Chicago:20230305T140000
DTEND;TZID=America/Chicago:20230305T153000
DTSTAMP:20260422T233132
CREATED:20230124T220453Z
LAST-MODIFIED:20230124T220453Z
UID:8300-1678024800-1678030200@campbellhousemuseum.org
SUMMARY:LECTURE: The Irish in St. Louis: From Shanty to Lace Curtain
DESCRIPTION:Join the Campbell House Museum to hear author\, Patrick Murphy discuss his new book\, “The Irish in St. Louis: From Shanty to Lace Curtain.”  The particular focus of his lecture will be on why so many Irish were attracted to St. Louis\, their struggle to overcome Nativist and anti-Catholic prejudices\, and how they eventually assimilated and impacted the St. Louis region. Included are the stories of Irishman Robert Campbell (1804-1879) and his son\, philanthropist Hugh Campbell (1847-1931).
URL:https://campbellhousemuseum.org/event/lecture-the-irish-in-st-louis-from-shanty-to-lace-curtain/
LOCATION:Campbell House Museum\, 1508 Locust Street\, St. Louis\, MO\, 63103
CATEGORIES:Talk/Presentation
ATTACH;FMTTYPE=image/png:https://campbellhousemuseum.org/wp-content/uploads/2023/01/Irish-in-St.-Louis-cover-3d-600x600-1.png
ORGANIZER;CN="Campbell House Museum":MAILTO:events@campbellhousemuseum.org
END:VEVENT
END:VCALENDAR