BEGIN:VCALENDAR
VERSION:2.0
PRODID:-//Campbell House Museum - ECPv6.15.20//NONSGML v1.0//EN
CALSCALE:GREGORIAN
METHOD:PUBLISH
X-WR-CALNAME:Campbell House Museum
X-ORIGINAL-URL:https://campbellhousemuseum.org
X-WR-CALDESC:Events for Campbell House Museum
REFRESH-INTERVAL;VALUE=DURATION:PT1H
X-Robots-Tag:noindex
X-PUBLISHED-TTL:PT1H
BEGIN:VTIMEZONE
TZID:America/Chicago
BEGIN:DAYLIGHT
TZOFFSETFROM:-0600
TZOFFSETTO:-0500
TZNAME:CDT
DTSTART:20230312T080000
END:DAYLIGHT
BEGIN:STANDARD
TZOFFSETFROM:-0500
TZOFFSETTO:-0600
TZNAME:CST
DTSTART:20231105T070000
END:STANDARD
BEGIN:DAYLIGHT
TZOFFSETFROM:-0600
TZOFFSETTO:-0500
TZNAME:CDT
DTSTART:20240310T080000
END:DAYLIGHT
BEGIN:STANDARD
TZOFFSETFROM:-0500
TZOFFSETTO:-0600
TZNAME:CST
DTSTART:20241103T070000
END:STANDARD
BEGIN:DAYLIGHT
TZOFFSETFROM:-0600
TZOFFSETTO:-0500
TZNAME:CDT
DTSTART:20250309T080000
END:DAYLIGHT
BEGIN:STANDARD
TZOFFSETFROM:-0500
TZOFFSETTO:-0600
TZNAME:CST
DTSTART:20251102T070000
END:STANDARD
END:VTIMEZONE
BEGIN:VEVENT
DTSTART;TZID=America/Chicago:20240804T140000
DTEND;TZID=America/Chicago:20240804T160000
DTSTAMP:20260424T093444
CREATED:20240722T193720Z
LAST-MODIFIED:20251125T230404Z
UID:11367-1722780000-1722787200@campbellhousemuseum.org
SUMMARY:Ice Cream Social
DESCRIPTION:Enjoy a special culinary tour that takes you back to the 19th century via Virginia Campbell’s historic recipes\, culinary artifacts and dining customs from St. Louis in the Gilded Age.  The tour culminates in a tasting of Virginia Campbell’s chocolate ice cream recipe\, hand-churned by culinary historian and author of the Gilded Table Suzanne Corbett. $20 per person \nLimited parking on the Museum lot\, FREE street parking on Sundays. \nPhoto by Jim Corbett\n 
URL:https://campbellhousemuseum.org/event/ice-cream-social/
LOCATION:Campbell House Museum\, 1508 Locust Street\, St. Louis\, MO\, 63103
CATEGORIES:Fundraiser
ORGANIZER;CN="Campbell House Museum":MAILTO:events@campbellhousemuseum.org
END:VEVENT
END:VCALENDAR